BEGIN:VCALENDAR
VERSION:2.0
PRODID:-//Jake And The Mountain Men - ECPv6.15.20//NONSGML v1.0//EN
CALSCALE:GREGORIAN
METHOD:PUBLISH
X-ORIGINAL-URL:https://jakeandthemountainmen.com
X-WR-CALDESC:Events for Jake And The Mountain Men
REFRESH-INTERVAL;VALUE=DURATION:PT1H
X-Robots-Tag:noindex
X-PUBLISHED-TTL:PT1H
BEGIN:VTIMEZONE
TZID:America/New_York
BEGIN:DAYLIGHT
TZOFFSETFROM:-0500
TZOFFSETTO:-0400
TZNAME:EDT
DTSTART:19990404T070000
END:DAYLIGHT
BEGIN:STANDARD
TZOFFSETFROM:-0400
TZOFFSETTO:-0500
TZNAME:EST
DTSTART:19991031T060000
END:STANDARD
BEGIN:DAYLIGHT
TZOFFSETFROM:-0500
TZOFFSETTO:-0400
TZNAME:EDT
DTSTART:20000402T070000
END:DAYLIGHT
BEGIN:STANDARD
TZOFFSETFROM:-0400
TZOFFSETTO:-0500
TZNAME:EST
DTSTART:20001029T060000
END:STANDARD
BEGIN:DAYLIGHT
TZOFFSETFROM:-0500
TZOFFSETTO:-0400
TZNAME:EDT
DTSTART:20010401T070000
END:DAYLIGHT
BEGIN:STANDARD
TZOFFSETFROM:-0400
TZOFFSETTO:-0500
TZNAME:EST
DTSTART:20011028T060000
END:STANDARD
BEGIN:DAYLIGHT
TZOFFSETFROM:-0500
TZOFFSETTO:-0400
TZNAME:EDT
DTSTART:20020407T070000
END:DAYLIGHT
BEGIN:STANDARD
TZOFFSETFROM:-0400
TZOFFSETTO:-0500
TZNAME:EST
DTSTART:20021027T060000
END:STANDARD
BEGIN:DAYLIGHT
TZOFFSETFROM:-0500
TZOFFSETTO:-0400
TZNAME:EDT
DTSTART:20030406T070000
END:DAYLIGHT
BEGIN:STANDARD
TZOFFSETFROM:-0400
TZOFFSETTO:-0500
TZNAME:EST
DTSTART:20031026T060000
END:STANDARD
BEGIN:DAYLIGHT
TZOFFSETFROM:-0500
TZOFFSETTO:-0400
TZNAME:EDT
DTSTART:20040404T070000
END:DAYLIGHT
BEGIN:STANDARD
TZOFFSETFROM:-0400
TZOFFSETTO:-0500
TZNAME:EST
DTSTART:20041031T060000
END:STANDARD
BEGIN:DAYLIGHT
TZOFFSETFROM:-0500
TZOFFSETTO:-0400
TZNAME:EDT
DTSTART:20050403T070000
END:DAYLIGHT
BEGIN:STANDARD
TZOFFSETFROM:-0400
TZOFFSETTO:-0500
TZNAME:EST
DTSTART:20051030T060000
END:STANDARD
BEGIN:DAYLIGHT
TZOFFSETFROM:-0500
TZOFFSETTO:-0400
TZNAME:EDT
DTSTART:20060402T070000
END:DAYLIGHT
BEGIN:STANDARD
TZOFFSETFROM:-0400
TZOFFSETTO:-0500
TZNAME:EST
DTSTART:20061029T060000
END:STANDARD
BEGIN:DAYLIGHT
TZOFFSETFROM:-0500
TZOFFSETTO:-0400
TZNAME:EDT
DTSTART:20070311T070000
END:DAYLIGHT
BEGIN:STANDARD
TZOFFSETFROM:-0400
TZOFFSETTO:-0500
TZNAME:EST
DTSTART:20071104T060000
END:STANDARD
BEGIN:DAYLIGHT
TZOFFSETFROM:-0500
TZOFFSETTO:-0400
TZNAME:EDT
DTSTART:20080309T070000
END:DAYLIGHT
BEGIN:STANDARD
TZOFFSETFROM:-0400
TZOFFSETTO:-0500
TZNAME:EST
DTSTART:20081102T060000
END:STANDARD
BEGIN:DAYLIGHT
TZOFFSETFROM:-0500
TZOFFSETTO:-0400
TZNAME:EDT
DTSTART:20090308T070000
END:DAYLIGHT
BEGIN:STANDARD
TZOFFSETFROM:-0400
TZOFFSETTO:-0500
TZNAME:EST
DTSTART:20091101T060000
END:STANDARD
BEGIN:DAYLIGHT
TZOFFSETFROM:-0500
TZOFFSETTO:-0400
TZNAME:EDT
DTSTART:20100314T070000
END:DAYLIGHT
BEGIN:STANDARD
TZOFFSETFROM:-0400
TZOFFSETTO:-0500
TZNAME:EST
DTSTART:20101107T060000
END:STANDARD
END:VTIMEZONE
BEGIN:VEVENT
DTSTART;TZID=America/New_York:20091125T220000
DTEND;TZID=America/New_York:20091125T220000
DTSTAMP:20260421T180130
CREATED:20250922T125846Z
LAST-MODIFIED:20251220T180545Z
UID:3896-1259186400-1259186400@jakeandthemountainmen.com
SUMMARY:Jake Comes Home for Thanksgiving (A Night of Audible Gluttony)
DESCRIPTION:Your Mountain Men have decided to shake off the rust and make a “coming home” appearance on Thanksgiving Eve\, on our home field @ Foley’s in Pleasantville. \nJake’s agent even tells us there’s a “good chance he’ll show up”. \nSo\, friends\, before you stuff your faces with turkey and the trimmings\, stuff your ears with loud cover music… we’ll even throw in a few new ones. \nBecause\, hey\, sitting next to Aunt Harriet at Thanksgiving dinner will be much more pleasant if you can’t hear her.
URL:https://jakeandthemountainmen.com/show/__trashed-63__trashed/
CATEGORIES:Live Show
END:VEVENT
BEGIN:VEVENT
DTSTART;TZID=America/New_York:20090606T120000
DTEND;TZID=America/New_York:20090606T120000
DTSTAMP:20260421T180130
CREATED:20250922T125847Z
LAST-MODIFIED:20251220T180545Z
UID:3895-1244289600-1244289600@jakeandthemountainmen.com
SUMMARY:Jake @ Holy Smoke's 2009 Summer Kick Off Party
DESCRIPTION:$65 per person gets you all you can eat BBQ\, lots of microbrew beer\, and an afternoon with Westchester’s loudest band. \nGo to
URL:https://jakeandthemountainmen.com/show/__trashed-64__trashed/
CATEGORIES:Live Show
END:VEVENT
BEGIN:VEVENT
DTSTART;TZID=America/New_York:20090523T220000
DTEND;TZID=America/New_York:20090523T220000
DTSTAMP:20260421T180130
CREATED:20250922T125847Z
LAST-MODIFIED:20251220T180545Z
UID:3894-1243116000-1243116000@jakeandthemountainmen.com
SUMMARY:Jake & The Mountain Men @ Willy Nick's
DESCRIPTION:Last time was WN’s best bar night ever. What does that say about our fans?? \nCome have a drink\, dance\, and mingle with the Jake Nation (it’s a small place – mingling is unavoidable).
URL:https://jakeandthemountainmen.com/show/__trashed-67__trashed/
CATEGORIES:Live Show
END:VEVENT
BEGIN:VEVENT
DTSTART;TZID=America/New_York:20090320T210000
DTEND;TZID=America/New_York:20090320T210000
DTSTAMP:20260421T180130
CREATED:20250922T125847Z
LAST-MODIFIED:20251220T180545Z
UID:3893-1237582800-1237582800@jakeandthemountainmen.com
SUMMARY:Jake & The Mountain Men @ Vintage
DESCRIPTION:
URL:https://jakeandthemountainmen.com/show/__trashed-68__trashed/
CATEGORIES:Live Show
END:VEVENT
BEGIN:VEVENT
DTSTART;TZID=America/New_York:20090302T180000
DTEND;TZID=America/New_York:20090302T180000
DTSTAMP:20260421T180130
CREATED:20250922T125847Z
LAST-MODIFIED:20251220T180545Z
UID:3892-1236016800-1236016800@jakeandthemountainmen.com
SUMMARY:Jake @ Central Park (Part 2: Electric Boogaloo)
DESCRIPTION:**************Weather Update*****************The show must go on!!! Mountain Men aren’t afraid of a little rain… Heck no!! But our gear might be… Anyway\, in case of inclement weather\, we’ve been invited to play at Coppersmith’s– a great bar on the West side. So\, if there’s a steady rain just come meet us at COPPERSMITH’S. It’s on 9th Ave between 52 & 53… You can still get your “Jake” fix\, and we’ll all be dry at a great bar!
URL:https://jakeandthemountainmen.com/show/__trashed-69__trashed/
CATEGORIES:Live Show
END:VEVENT
BEGIN:VEVENT
DTSTART;TZID=America/New_York:20080830T220000
DTEND;TZID=America/New_York:20080830T220000
DTSTAMP:20260421T180130
CREATED:20250922T163304Z
LAST-MODIFIED:20251220T180545Z
UID:4050-1220133600-1220133600@jakeandthemountainmen.com
SUMMARY:Jake & The Mountain Men @ Willy Nick's
DESCRIPTION:Jake & The Mountain Men: Live @ Willy Nick’s on Saturday\, August 30 at 10:00pm. \nDino says\, “It’s a small little place\, and we’re very loud. But come\, if you dare!” \n\nEvent: Jake & The Mountain Men: Live @ Willy Nick’s“It’s a Band in a Box! Watch us try to squeeze into a tiny corner\, just for you!”\nWhat: Concert\nHost: Jake & The Mountain Men\nStart Time: Saturday\, August 30 at 10:00pm\nEnd Time: Sunday\, August 31 at 2:00am\nWhere: Willy Nick’s Café
URL:https://jakeandthemountainmen.com/show/__trashed-26__trashed-2/
CATEGORIES:Live Show
END:VEVENT
BEGIN:VEVENT
DTSTART;TZID=America/New_York:20080719T140000
DTEND;TZID=America/New_York:20080719T140000
DTSTAMP:20260421T180130
CREATED:20250922T125846Z
LAST-MODIFIED:20251220T180545Z
UID:3904-1216476000-1216476000@jakeandthemountainmen.com
SUMMARY:Jackfest (Private Party)
DESCRIPTION:
URL:https://jakeandthemountainmen.com/show/__trashed-60__trashed/
CATEGORIES:Live Show
END:VEVENT
BEGIN:VEVENT
DTSTART;TZID=America/New_York:20080315T223000
DTEND;TZID=America/New_York:20080315T223000
DTSTAMP:20260421T180130
CREATED:20250922T125847Z
LAST-MODIFIED:20251220T180545Z
UID:3890-1205620200-1205620200@jakeandthemountainmen.com
SUMMARY:Jake & The Mountain Men @ Victor's
DESCRIPTION:Consider this a Pre-St. Patty’s Day Party! \nIt’s your favorite cover band playing your favorite songs that you forgot you loved so much!!
URL:https://jakeandthemountainmen.com/show/__trashed-66__trashed/
CATEGORIES:Live Show
END:VEVENT
BEGIN:VEVENT
DTSTART;TZID=America/New_York:20071208T223000
DTEND;TZID=America/New_York:20071208T223000
DTSTAMP:20260421T180130
CREATED:20250922T125847Z
LAST-MODIFIED:20251220T180545Z
UID:3889-1197153000-1197153000@jakeandthemountainmen.com
SUMMARY:Jake & The Mountain Men @ Victor's
DESCRIPTION:
URL:https://jakeandthemountainmen.com/show/__trashed-70__trashed/
CATEGORIES:Live Show
END:VEVENT
BEGIN:VEVENT
DTSTART;TZID=America/New_York:20071117T230000
DTEND;TZID=America/New_York:20071117T230000
DTSTAMP:20260421T180130
CREATED:20250922T125847Z
LAST-MODIFIED:20251220T180545Z
UID:3888-1195340400-1195340400@jakeandthemountainmen.com
SUMMARY:Jake & The Mountain Men @ Katonah Bar & Grill
DESCRIPTION:
URL:https://jakeandthemountainmen.com/show/__trashed-71__trashed/
CATEGORIES:Live Show
END:VEVENT
BEGIN:VEVENT
DTSTART;TZID=America/New_York:20071117T220000
DTEND;TZID=America/New_York:20071117T220000
DTSTAMP:20260421T180130
CREATED:20250922T125846Z
LAST-MODIFIED:20251220T180545Z
UID:3900-1195336800-1195336800@jakeandthemountainmen.com
SUMMARY:Jake& The Mountain Men @ Katonah Bar & Grill
DESCRIPTION:
URL:https://jakeandthemountainmen.com/show/__trashed-61__trashed/
CATEGORIES:Live Show
END:VEVENT
BEGIN:VEVENT
DTSTART;TZID=America/New_York:20071101T220000
DTEND;TZID=America/New_York:20071101T220000
DTSTAMP:20260421T180130
CREATED:20250922T125847Z
LAST-MODIFIED:20251220T180545Z
UID:3887-1193954400-1193954400@jakeandthemountainmen.com
SUMMARY:Jake & The Mountain Men
DESCRIPTION:
URL:https://jakeandthemountainmen.com/show/__trashed-72__trashed/
CATEGORIES:Live Show
END:VEVENT
BEGIN:VEVENT
DTSTART;TZID=America/New_York:20071027T220000
DTEND;TZID=America/New_York:20071027T220000
DTSTAMP:20260421T180130
CREATED:20250922T125847Z
LAST-MODIFIED:20251220T180545Z
UID:3886-1193522400-1193522400@jakeandthemountainmen.com
SUMMARY:Jake & The Mountain Men
DESCRIPTION:
URL:https://jakeandthemountainmen.com/show/__trashed-73__trashed/
CATEGORIES:Live Show
END:VEVENT
BEGIN:VEVENT
DTSTART;TZID=America/New_York:20070915T160000
DTEND;TZID=America/New_York:20070915T160000
DTSTAMP:20260421T180130
CREATED:20250922T125847Z
LAST-MODIFIED:20251220T180545Z
UID:3885-1189872000-1189872000@jakeandthemountainmen.com
SUMMARY:Jake @ The Nick Gretina Music Festival
DESCRIPTION:What: The Nick Gretina Music FestivalWith: Jake & The Mountain MenWhen: Saturday Sep 15\, 2007 @ 3:30 PM \nFREE ADMISSION! \nAll food & beverage proceeds go to The Hope With Heart Foundation
URL:https://jakeandthemountainmen.com/show/__trashed-74__trashed/
CATEGORIES:Live Show
END:VEVENT
BEGIN:VEVENT
DTSTART;TZID=America/New_York:20070721T220000
DTEND;TZID=America/New_York:20070721T220000
DTSTAMP:20260421T180130
CREATED:20250922T125847Z
LAST-MODIFIED:20251220T180545Z
UID:3884-1185055200-1185055200@jakeandthemountainmen.com
SUMMARY:Jake & The Mountain Men @ Foley's
DESCRIPTION:Our last show at Foley’s was a legendary moment in cover band history. Take it from Jake himself\, “you do not want to miss this one!” It’s right across the street from the Pleasantville train station (Metro North Harlem Line).
URL:https://jakeandthemountainmen.com/show/__trashed-75__trashed/
CATEGORIES:Live Show
END:VEVENT
BEGIN:VEVENT
DTSTART;TZID=America/New_York:20070707T000000
DTEND;TZID=America/New_York:20070707T000000
DTSTAMP:20260421T180130
CREATED:20251220T180545Z
LAST-MODIFIED:20251220T180545Z
UID:4200-1183766400-1183766400@jakeandthemountainmen.com
SUMMARY:Jake & The Mountain Men @ Central Park
DESCRIPTION:This is not a joke. Jake is doing a free show in Central Park. Simon & Garfunkel are opening. OK that part was a joke. But I swear\, Jake is playing Central Park! There’s no way you could ever forget the date and time: 7/7/07 @ 7:00 PM
URL:https://jakeandthemountainmen.com/show/jake-the-mountain-men-central-park/
CATEGORIES:Live Show
END:VEVENT
BEGIN:VEVENT
DTSTART;TZID=America/New_York:20070310T000000
DTEND;TZID=America/New_York:20070310T000000
DTSTAMP:20260421T180130
CREATED:20250922T125847Z
LAST-MODIFIED:20251220T180545Z
UID:3882-1173484800-1173484800@jakeandthemountainmen.com
SUMMARY:Jake & The Mountain Men @ Foley's
DESCRIPTION:Jake reunites with the infamous Mountain Men! Don’t miss it! Coming from NYC? Take the train! It’s a 2 minute walk from the Pleasantville station on the Harlem Line!
URL:https://jakeandthemountainmen.com/show/__trashed-77__trashed/
CATEGORIES:Live Show
END:VEVENT
BEGIN:VEVENT
DTSTART;TZID=America/New_York:20001222T220000
DTEND;TZID=America/New_York:20001222T220000
DTSTAMP:20260421T180130
CREATED:20250922T125847Z
LAST-MODIFIED:20251220T180545Z
UID:3881-977522400-977522400@jakeandthemountainmen.com
SUMMARY:A Holiday Work-Out with Jake!
DESCRIPTION:Feeling Chubby?It‘s Jake‘s Holiday Work–Out! \nCome one\, come all to this rock concert/weight loss extravaganza! \nJake and the Mountain Men \nLIVE! Friday\, December 22nd @ 10:00 PM21 or Older – Bring ID – $5 Cover \nListen to Music! Lose Weight!Burn off that Holiday Hump™Featuring sultry entertainment by: \n\nJake: Personal Trainer\nScott Hickey: Christmas Caroler\nMistress Kristin Hickey (In Leather): Seductive Soprano\nDino “The Grinch” Covelli: Tenacious Tenor\nEd “The Irish Car Bomb” Roddy: Big Bottom\n“Air” Andrew Chiappinelli: Keys to your Heart\nScott “Pa Rumpum Pum Pum” Fowler: Drummer Boy
URL:https://jakeandthemountainmen.com/show/__trashed-78__trashed/
CATEGORIES:Live Show
END:VEVENT
BEGIN:VEVENT
DTSTART;TZID=America/New_York:20001124T220000
DTEND;TZID=America/New_York:20001124T220000
DTSTAMP:20260421T180130
CREATED:20250922T125847Z
LAST-MODIFIED:20251220T180546Z
UID:3880-975103200-975103200@jakeandthemountainmen.com
SUMMARY:Jake @ Fitzgerald's
DESCRIPTION:Jake & The Mountain MenLive @ Fitzgerald’s
URL:https://jakeandthemountainmen.com/show/__trashed-79__trashed/
CATEGORIES:Live Show
END:VEVENT
END:VCALENDAR