BEGIN:VCALENDAR
VERSION:2.0
PRODID:-//Jake And The Mountain Men - ECPv6.15.20//NONSGML v1.0//EN
CALSCALE:GREGORIAN
METHOD:PUBLISH
X-WR-CALNAME:Jake And The Mountain Men
X-ORIGINAL-URL:https://jakeandthemountainmen.com
X-WR-CALDESC:Events for Jake And The Mountain Men
REFRESH-INTERVAL;VALUE=DURATION:PT1H
X-Robots-Tag:noindex
X-PUBLISHED-TTL:PT1H
BEGIN:VTIMEZONE
TZID:America/New_York
BEGIN:DAYLIGHT
TZOFFSETFROM:-0500
TZOFFSETTO:-0400
TZNAME:EDT
DTSTART:20160313T070000
END:DAYLIGHT
BEGIN:STANDARD
TZOFFSETFROM:-0400
TZOFFSETTO:-0500
TZNAME:EST
DTSTART:20161106T060000
END:STANDARD
BEGIN:DAYLIGHT
TZOFFSETFROM:-0500
TZOFFSETTO:-0400
TZNAME:EDT
DTSTART:20170312T070000
END:DAYLIGHT
BEGIN:STANDARD
TZOFFSETFROM:-0400
TZOFFSETTO:-0500
TZNAME:EST
DTSTART:20171105T060000
END:STANDARD
BEGIN:DAYLIGHT
TZOFFSETFROM:-0500
TZOFFSETTO:-0400
TZNAME:EDT
DTSTART:20180311T070000
END:DAYLIGHT
BEGIN:STANDARD
TZOFFSETFROM:-0400
TZOFFSETTO:-0500
TZNAME:EST
DTSTART:20181104T060000
END:STANDARD
BEGIN:DAYLIGHT
TZOFFSETFROM:-0500
TZOFFSETTO:-0400
TZNAME:EDT
DTSTART:20190310T070000
END:DAYLIGHT
BEGIN:STANDARD
TZOFFSETFROM:-0400
TZOFFSETTO:-0500
TZNAME:EST
DTSTART:20191103T060000
END:STANDARD
BEGIN:DAYLIGHT
TZOFFSETFROM:-0500
TZOFFSETTO:-0400
TZNAME:EDT
DTSTART:20200308T070000
END:DAYLIGHT
BEGIN:STANDARD
TZOFFSETFROM:-0400
TZOFFSETTO:-0500
TZNAME:EST
DTSTART:20201101T060000
END:STANDARD
BEGIN:DAYLIGHT
TZOFFSETFROM:-0500
TZOFFSETTO:-0400
TZNAME:EDT
DTSTART:20210314T070000
END:DAYLIGHT
BEGIN:STANDARD
TZOFFSETFROM:-0400
TZOFFSETTO:-0500
TZNAME:EST
DTSTART:20211107T060000
END:STANDARD
BEGIN:DAYLIGHT
TZOFFSETFROM:-0500
TZOFFSETTO:-0400
TZNAME:EDT
DTSTART:20220313T070000
END:DAYLIGHT
BEGIN:STANDARD
TZOFFSETFROM:-0400
TZOFFSETTO:-0500
TZNAME:EST
DTSTART:20221106T060000
END:STANDARD
BEGIN:DAYLIGHT
TZOFFSETFROM:-0500
TZOFFSETTO:-0400
TZNAME:EDT
DTSTART:20230312T070000
END:DAYLIGHT
BEGIN:STANDARD
TZOFFSETFROM:-0400
TZOFFSETTO:-0500
TZNAME:EST
DTSTART:20231105T060000
END:STANDARD
END:VTIMEZONE
BEGIN:VEVENT
DTSTART;TZID=America/New_York:20220618T000000
DTEND;TZID=America/New_York:20220618T000000
DTSTAMP:20260421T150314
CREATED:20251220T180544Z
LAST-MODIFIED:20251220T180544Z
UID:4162-1655510400-1655510400@jakeandthemountainmen.com
SUMMARY:Private Party
DESCRIPTION:
URL:https://jakeandthemountainmen.com/show/private-party-5/
CATEGORIES:Live Show
END:VEVENT
BEGIN:VEVENT
DTSTART;TZID=America/New_York:20220528T000000
DTEND;TZID=America/New_York:20220528T000000
DTSTAMP:20260421T150314
CREATED:20251220T180544Z
LAST-MODIFIED:20251220T180544Z
UID:4163-1653696000-1653696000@jakeandthemountainmen.com
SUMMARY:Private Event
DESCRIPTION:
URL:https://jakeandthemountainmen.com/show/private-event/
CATEGORIES:Live Show
END:VEVENT
BEGIN:VEVENT
DTSTART;TZID=America/New_York:20211203T000000
DTEND;TZID=America/New_York:20211203T000000
DTSTAMP:20260421T150314
CREATED:20251220T180544Z
LAST-MODIFIED:20251220T180544Z
UID:4164-1638489600-1638489600@jakeandthemountainmen.com
SUMMARY:Private Event: Holiday Party
DESCRIPTION:
URL:https://jakeandthemountainmen.com/show/private-event-holiday-party/
CATEGORIES:Live Show
END:VEVENT
BEGIN:VEVENT
DTSTART;TZID=America/New_York:20211002T000000
DTEND;TZID=America/New_York:20211002T000000
DTSTAMP:20260421T150314
CREATED:20251220T180544Z
LAST-MODIFIED:20251220T180544Z
UID:4170-1633132800-1633132800@jakeandthemountainmen.com
SUMMARY:Private Party: ClamJake
DESCRIPTION:
URL:https://jakeandthemountainmen.com/show/private-party-clamjake/
CATEGORIES:Live Show
END:VEVENT
BEGIN:VEVENT
DTSTART;TZID=America/New_York:20210724T140000
DTEND;TZID=America/New_York:20210724T140000
DTSTAMP:20260421T150314
CREATED:20251220T180544Z
LAST-MODIFIED:20251220T180544Z
UID:4171-1627135200-1627135200@jakeandthemountainmen.com
SUMMARY:Fire Island
DESCRIPTION:Jake And The Mountain Men will return to The Sandbar on Fire Island on 7/24/2021!
URL:https://jakeandthemountainmen.com/show/fire-island/
CATEGORIES:Live Show
END:VEVENT
BEGIN:VEVENT
DTSTART;TZID=America/New_York:20210710T000000
DTEND;TZID=America/New_York:20210710T000000
DTSTAMP:20260421T150314
CREATED:20251220T180544Z
LAST-MODIFIED:20251220T180544Z
UID:4172-1625875200-1625875200@jakeandthemountainmen.com
SUMMARY:Private Party: Pig Rock
DESCRIPTION:
URL:https://jakeandthemountainmen.com/show/private-party-pig-rock-5/
CATEGORIES:Live Show
END:VEVENT
BEGIN:VEVENT
DTSTART;TZID=America/New_York:20210612T000000
DTEND;TZID=America/New_York:20210612T000000
DTSTAMP:20260421T150314
CREATED:20251220T180544Z
LAST-MODIFIED:20251220T180544Z
UID:4173-1623456000-1623456000@jakeandthemountainmen.com
SUMMARY:Private Party: All 80's All Night
DESCRIPTION:
URL:https://jakeandthemountainmen.com/show/private-party-all-80s-all-night/
CATEGORIES:Live Show
END:VEVENT
BEGIN:VEVENT
DTSTART;TZID=America/New_York:20200605T000000
DTEND;TZID=America/New_York:20200605T000000
DTSTAMP:20260421T150314
CREATED:20251220T180544Z
LAST-MODIFIED:20251220T180544Z
UID:4174-1591315200-1591315200@jakeandthemountainmen.com
SUMMARY:Fire Island
DESCRIPTION:
URL:https://jakeandthemountainmen.com/show/fire-island-2/
CATEGORIES:Live Show
END:VEVENT
BEGIN:VEVENT
DTSTART;TZID=America/New_York:20200501T200000
DTEND;TZID=America/New_York:20200501T200000
DTSTAMP:20260421T150314
CREATED:20251220T180544Z
LAST-MODIFIED:20251220T180544Z
UID:4175-1588363200-1588363200@jakeandthemountainmen.com
SUMMARY:“Live From The Archives" 8/4/2018 at Goldens Bridge Colony
DESCRIPTION:We will be live streaming the second and third sets of our private show from The Colony in Goldens Bridge\, NY on August 4th\, 2018!
URL:https://jakeandthemountainmen.com/show/live-from-the-archives-8-4-2018-at-goldens-bridge-colony/
CATEGORIES:Live Show
END:VEVENT
BEGIN:VEVENT
DTSTART;TZID=America/New_York:20200425T190000
DTEND;TZID=America/New_York:20200425T190000
DTSTAMP:20260421T150314
CREATED:20251220T180544Z
LAST-MODIFIED:20251220T180544Z
UID:4176-1587841200-1587841200@jakeandthemountainmen.com
SUMMARY:“Live From The Archives" Live In Central Park 7/7/7@7
DESCRIPTION:We will be live streaming the bootleg video of Jake’s infamous Central Park show in its entirety! Jake performed at the Naumburg Bandshell at Central Park in New York City on July 7\, 2007.
URL:https://jakeandthemountainmen.com/show/live-from-the-archives-live-in-central-park-7-7-77/
CATEGORIES:Live Show
END:VEVENT
BEGIN:VEVENT
DTSTART;TZID=America/New_York:20200321T000000
DTEND;TZID=America/New_York:20200321T000000
DTSTAMP:20260421T150314
CREATED:20250922T125845Z
LAST-MODIFIED:20251220T180544Z
UID:3939-1584748800-1584748800@jakeandthemountainmen.com
SUMMARY:Private Party [POSTPONED]
DESCRIPTION:Event has been postponed due to COVID-19.
URL:https://jakeandthemountainmen.com/show/__trashed-23__trashed/
CATEGORIES:Live Show
END:VEVENT
BEGIN:VEVENT
DTSTART;TZID=America/New_York:20190921T183000
DTEND;TZID=America/New_York:20190921T183000
DTSTAMP:20260421T150314
CREATED:20251220T180544Z
LAST-MODIFIED:20251220T180544Z
UID:4177-1569090600-1569090600@jakeandthemountainmen.com
SUMMARY:Bedford's Tri-Festa
DESCRIPTION:The Town of Bedford Recreation and Parks Department will host Bedford’s second annual “Tri-Festa\,” a family-friendly food truck festival on Saturday\, September 22 from 4–8pm. “Three hamlets\, three times the fun!” \nMain Stage\n3:45pm: School of Rock (from Bedford Village)5:00pm: Twist of Fate6:30pm: Jake and the Mountain Men \nFood Trucks\n\nLeila’s Crêpe Station\nSloppie Joe’s\nRoad Grub Mobile\nLongford’s Ice Cream\nWandering Dave’s Fork in the Road\nSalsa Fresca\n5 Alarm Pizza Company\nCrafty Cue\nBig Fish\nCaptain Lawrence Brewing Company\n\nKids Entertainment\n\nFerris Wheel Inflatable (10 & under)\nFunhouse Obstacle Course\n22’ Slide\nTina’s Face Painting\nSafari Animal Rides (parking lot near field)\nMagician Zach Alexander (4:45–5:30pm)\n\n*Sorry\, this is not a pet-friendly event– no dogs permitted
URL:https://jakeandthemountainmen.com/show/bedfords-tri-festa-3/
CATEGORIES:Live Show
END:VEVENT
BEGIN:VEVENT
DTSTART;TZID=America/New_York:20190706T000000
DTEND;TZID=America/New_York:20190706T000000
DTSTAMP:20260421T150314
CREATED:20251220T180544Z
LAST-MODIFIED:20251220T180544Z
UID:4178-1562371200-1562371200@jakeandthemountainmen.com
SUMMARY:Private Party: Pig Roast
DESCRIPTION:
URL:https://jakeandthemountainmen.com/show/private-party-pig-roast/
CATEGORIES:Live Show
END:VEVENT
BEGIN:VEVENT
DTSTART;TZID=America/New_York:20190622T140000
DTEND;TZID=America/New_York:20190622T140000
DTSTAMP:20260421T150314
CREATED:20251220T180544Z
LAST-MODIFIED:20251220T180544Z
UID:4179-1561212000-1561212000@jakeandthemountainmen.com
SUMMARY:Fire Island
DESCRIPTION:
URL:https://jakeandthemountainmen.com/show/fire-island-3/
CATEGORIES:Live Show
END:VEVENT
BEGIN:VEVENT
DTSTART;TZID=America/New_York:20190621T190000
DTEND;TZID=America/New_York:20190621T190000
DTSTAMP:20260421T150314
CREATED:20251220T180544Z
LAST-MODIFIED:20251220T180544Z
UID:4180-1561143600-1561143600@jakeandthemountainmen.com
SUMMARY:Fire Island
DESCRIPTION:
URL:https://jakeandthemountainmen.com/show/fire-island-4/
CATEGORIES:Live Show
END:VEVENT
BEGIN:VEVENT
DTSTART;TZID=America/New_York:20190302T183000
DTEND;TZID=America/New_York:20190302T183000
DTSTAMP:20260421T150314
CREATED:20250922T125845Z
LAST-MODIFIED:20251220T180544Z
UID:3934-1551551400-1551551400@jakeandthemountainmen.com
SUMMARY:Battle Of The Firehouse Bands
DESCRIPTION:
URL:https://jakeandthemountainmen.com/show/__trashed-28__trashed/
CATEGORIES:Live Show
END:VEVENT
BEGIN:VEVENT
DTSTART;TZID=America/New_York:20190105T210000
DTEND;TZID=America/New_York:20190105T210000
DTSTAMP:20260421T150314
CREATED:20250922T125845Z
LAST-MODIFIED:20251220T180544Z
UID:3933-1546722000-1546722000@jakeandthemountainmen.com
SUMMARY:Live @ Gramercy Ale House
DESCRIPTION:
URL:https://jakeandthemountainmen.com/show/__trashed-29__trashed/
CATEGORIES:Live Show
END:VEVENT
BEGIN:VEVENT
DTSTART;TZID=America/New_York:20181117T160000
DTEND;TZID=America/New_York:20181117T160000
DTSTAMP:20260421T150314
CREATED:20251220T180544Z
LAST-MODIFIED:20251220T180544Z
UID:4181-1542470400-1542470400@jakeandthemountainmen.com
SUMMARY:1st Annual Tony Packes Memorial
DESCRIPTION:The Friends Of Anthony Packes invite you to join us for a live music tribute event in his honor. It’s happening on November 17\, 2018 at 4:00 PM at Fulgum’s in Montrose\, NY– where Tony played his last few shows\, and took his last bow. \nThe artist lineup is incredible: \n\nRICKY BLUES BAND\nJAKE AND THE MOUNTAIN MEN\nMIKE WILLIAMS\nAMY KING\nTHE ORIGINAL LOVE MACHINE\nAnd a special performance by Tony’s own MOONSPANK\n\nThere will be raffles\, prizes\, and great food. Come celebrate Tony’s life with us. \nFacebook Event
URL:https://jakeandthemountainmen.com/show/1st-annual-tony-packes-memorial/
CATEGORIES:Live Show
END:VEVENT
BEGIN:VEVENT
DTSTART;TZID=America/New_York:20180922T180000
DTEND;TZID=America/New_York:20180922T180000
DTSTAMP:20260421T150314
CREATED:20251220T180544Z
LAST-MODIFIED:20251220T180544Z
UID:4182-1537639200-1537639200@jakeandthemountainmen.com
SUMMARY:Bedford's Tri-Festa
DESCRIPTION:The Town of Bedford Recreation and Parks Department will host Bedford’s first ever “Tri-Festa\,” a family-friendly food truck festival on Saturday\, September 22 from 4–8pm. “Three hamlets\, three times the fun!” The festival will feature: \n\nFood Trucks\nCaptain Lawrence Beer Garden\nLive Music (Jake are headlining at 6pm!)\nKids Entertainment\nCommunity Organizations\nInflatables
URL:https://jakeandthemountainmen.com/show/bedfords-tri-festa-4/
CATEGORIES:Live Show
END:VEVENT
BEGIN:VEVENT
DTSTART;TZID=America/New_York:20180901T000000
DTEND;TZID=America/New_York:20180901T000000
DTSTAMP:20260421T150314
CREATED:20251220T180544Z
LAST-MODIFIED:20251220T180544Z
UID:4183-1535760000-1535760000@jakeandthemountainmen.com
SUMMARY:Private Party
DESCRIPTION:
URL:https://jakeandthemountainmen.com/show/private-party-6/
CATEGORIES:Live Show
END:VEVENT
BEGIN:VEVENT
DTSTART;TZID=America/New_York:20180804T000000
DTEND;TZID=America/New_York:20180804T000000
DTSTAMP:20260421T150314
CREATED:20251220T180544Z
LAST-MODIFIED:20251220T180544Z
UID:4184-1533340800-1533340800@jakeandthemountainmen.com
SUMMARY:Private Party
DESCRIPTION:
URL:https://jakeandthemountainmen.com/show/private-party-7/
CATEGORIES:Live Show
END:VEVENT
BEGIN:VEVENT
DTSTART;TZID=America/New_York:20180707T000000
DTEND;TZID=America/New_York:20180707T000000
DTSTAMP:20260421T150314
CREATED:20251220T180544Z
LAST-MODIFIED:20251220T180544Z
UID:4185-1530921600-1530921600@jakeandthemountainmen.com
SUMMARY:Private Party: Pig Roast
DESCRIPTION:
URL:https://jakeandthemountainmen.com/show/private-party-pig-roast-2/
CATEGORIES:Live Show
END:VEVENT
BEGIN:VEVENT
DTSTART;TZID=America/New_York:20180426T000000
DTEND;TZID=America/New_York:20180426T000000
DTSTAMP:20260421T150314
CREATED:20251220T180544Z
LAST-MODIFIED:20251220T180544Z
UID:4186-1524700800-1524700800@jakeandthemountainmen.com
SUMMARY:Private Party
DESCRIPTION:
URL:https://jakeandthemountainmen.com/show/private-party-8/
CATEGORIES:Live Show
END:VEVENT
BEGIN:VEVENT
DTSTART;TZID=America/New_York:20180310T183000
DTEND;TZID=America/New_York:20180310T183000
DTSTAMP:20260421T150314
CREATED:20250922T125845Z
LAST-MODIFIED:20251220T180544Z
UID:3924-1520706600-1520706600@jakeandthemountainmen.com
SUMMARY:Battle Of The Firehouse Bands
DESCRIPTION:
URL:https://jakeandthemountainmen.com/show/__trashed-38__trashed/
CATEGORIES:Live Show
END:VEVENT
BEGIN:VEVENT
DTSTART;TZID=America/New_York:20171229T200000
DTEND;TZID=America/New_York:20171229T200000
DTSTAMP:20260421T150314
CREATED:20250922T125845Z
LAST-MODIFIED:20251220T180544Z
UID:3926-1514577600-1514577600@jakeandthemountainmen.com
SUMMARY:New Year's Eve
DESCRIPTION:There’s nothing quite like a Jake and the Mountain Men show to kick off the new year. We’re not even going to take over the holiday\, instead we’ll steal you away on Friday the 29th! How convenient! That should give you plenty of time to recover for another evening of partying\, amirite? \nJoin us Friday\, December 29th at Tom & Jerry’s Irish House! The music starts at 8pm sharp\, don’t miss it!
URL:https://jakeandthemountainmen.com/show/__trashed-37__trashed/
CATEGORIES:Live Show
END:VEVENT
BEGIN:VEVENT
DTSTART;TZID=America/New_York:20171021T000000
DTEND;TZID=America/New_York:20171021T000000
DTSTAMP:20260421T150314
CREATED:20251220T180544Z
LAST-MODIFIED:20251220T180544Z
UID:4187-1508544000-1508544000@jakeandthemountainmen.com
SUMMARY:Private Party
DESCRIPTION:
URL:https://jakeandthemountainmen.com/show/private-party-9/
CATEGORIES:Live Show
END:VEVENT
BEGIN:VEVENT
DTSTART;TZID=America/New_York:20170930T000000
DTEND;TZID=America/New_York:20170930T000000
DTSTAMP:20260421T150314
CREATED:20251220T180544Z
LAST-MODIFIED:20251220T180544Z
UID:4188-1506729600-1506729600@jakeandthemountainmen.com
SUMMARY:Private Party
DESCRIPTION:
URL:https://jakeandthemountainmen.com/show/private-party-10/
CATEGORIES:Live Show
END:VEVENT
BEGIN:VEVENT
DTSTART;TZID=America/New_York:20170819T000000
DTEND;TZID=America/New_York:20170819T000000
DTSTAMP:20260421T150314
CREATED:20251220T180544Z
LAST-MODIFIED:20251220T180544Z
UID:4189-1503100800-1503100800@jakeandthemountainmen.com
SUMMARY:Private Party
DESCRIPTION:
URL:https://jakeandthemountainmen.com/show/private-party-11/
CATEGORIES:Live Show
END:VEVENT
BEGIN:VEVENT
DTSTART;TZID=America/New_York:20170805T200000
DTEND;TZID=America/New_York:20170805T200000
DTSTAMP:20260421T150314
CREATED:20251220T180544Z
LAST-MODIFIED:20251220T180544Z
UID:4190-1501963200-1501963200@jakeandthemountainmen.com
SUMMARY:The Triumphant Return of Mussels!
DESCRIPTION:TBD
URL:https://jakeandthemountainmen.com/show/the-triumphant-return-of-mussels/
CATEGORIES:Live Show
END:VEVENT
BEGIN:VEVENT
DTSTART;TZID=America/New_York:20170708T000000
DTEND;TZID=America/New_York:20170708T000000
DTSTAMP:20260421T150314
CREATED:20250922T125512Z
LAST-MODIFIED:20251220T180544Z
UID:3919-1499472000-1499472000@jakeandthemountainmen.com
SUMMARY:Private Party
DESCRIPTION:
URL:https://jakeandthemountainmen.com/show/__trashed/
CATEGORIES:Live Show
END:VEVENT
END:VCALENDAR